BEGIN:VCALENDAR
VERSION:2.0
PRODID:-//Woods Panthers Netball Club - ECPv5.0.2//NONSGML v1.0//EN
CALSCALE:GREGORIAN
METHOD:PUBLISH
X-WR-CALNAME:Woods Panthers Netball Club
X-ORIGINAL-URL:https://woodspanthers.com.au
X-WR-CALDESC:Events for Woods Panthers Netball Club
BEGIN:VTIMEZONE
TZID:Australia/Adelaide
BEGIN:STANDARD
TZOFFSETFROM:+1030
TZOFFSETTO:+0930
TZNAME:ACST
DTSTART:20200404T163000
END:STANDARD
BEGIN:DAYLIGHT
TZOFFSETFROM:+0930
TZOFFSETTO:+1030
TZNAME:ACDT
DTSTART:20201003T163000
END:DAYLIGHT
END:VTIMEZONE
BEGIN:VEVENT
DTSTART;TZID=Australia/Adelaide:20200210T173000
DTEND;TZID=Australia/Adelaide:20200210T200000
DTSTAMP:20200301T213858
CREATED:20191218T234515Z
LAST-MODIFIED:20191218T234515Z
UID:6625-1581355800-1581364800@woodspanthers.com.au
SUMMARY:SUNA Trials Winter 2020 (Week 1)
DESCRIPTION:9&U / 11&U / 13&U: Warm up 5:30pm\, Trials 6:00-7:00pm\nIntermediate & Senior: Warm up 6:30pm\, Trials 7:00-8:00pm \nWarm up will take place on the outdoor courts\, whilst trials will be indoors \n  \nTo register click here \n
URL:https://woodspanthers.com.au/event/suna-trials-winter-2020-week-1/
LOCATION:Westminster College Gym\, 1/23 Alison Avenue\, Marion\, SA\, 5043\, Australia
END:VEVENT
END:VCALENDAR